BEGIN:VCALENDAR
VERSION:2.0
PRODID:-//Fairfield Golf Club - ECPv6.15.20//NONSGML v1.0//EN
CALSCALE:GREGORIAN
METHOD:PUBLISH
X-ORIGINAL-URL:https://fairfieldgolfclub.co.uk
X-WR-CALDESC:Events for Fairfield Golf Club
REFRESH-INTERVAL;VALUE=DURATION:PT1H
X-Robots-Tag:noindex
X-PUBLISHED-TTL:PT1H
BEGIN:VTIMEZONE
TZID:Europe/London
BEGIN:DAYLIGHT
TZOFFSETFROM:+0000
TZOFFSETTO:+0100
TZNAME:BST
DTSTART:20230326T010000
END:DAYLIGHT
BEGIN:STANDARD
TZOFFSETFROM:+0100
TZOFFSETTO:+0000
TZNAME:GMT
DTSTART:20231029T010000
END:STANDARD
BEGIN:DAYLIGHT
TZOFFSETFROM:+0000
TZOFFSETTO:+0100
TZNAME:BST
DTSTART:20240331T010000
END:DAYLIGHT
BEGIN:STANDARD
TZOFFSETFROM:+0100
TZOFFSETTO:+0000
TZNAME:GMT
DTSTART:20241027T010000
END:STANDARD
BEGIN:DAYLIGHT
TZOFFSETFROM:+0000
TZOFFSETTO:+0100
TZNAME:BST
DTSTART:20250330T010000
END:DAYLIGHT
BEGIN:STANDARD
TZOFFSETFROM:+0100
TZOFFSETTO:+0000
TZNAME:GMT
DTSTART:20251026T010000
END:STANDARD
END:VTIMEZONE
BEGIN:VEVENT
DTSTART;TZID=Europe/London:20240928T073000
DTEND;TZID=Europe/London:20240928T180000
DTSTAMP:20260422T001350
CREATED:20240528T164350Z
LAST-MODIFIED:20240528T164351Z
UID:10000231-1727508600-1727546400@fairfieldgolfclub.co.uk
SUMMARY:Autumn Cup Final Round & GB Qualifier (20 of 20)
DESCRIPTION:Autumn Cup Final Round & GB Qualifier (20 of 20)
URL:https://fairfieldgolfclub.co.uk/event/club-saturday-competition-19/
LOCATION:Fairfield Golf Club\, Kings Road\, Audenshaw\, Greater Manchester\, M34 5FA\, United Kingdom
CATEGORIES:Club Competitions,Club Saturday Competitions
ATTACH;FMTTYPE=image/jpeg:https://fairfieldgolfclub.co.uk/wp-content/uploads/2024/05/fgcnat16.jpg
ORGANIZER;CN="Fairfield GC Competitions":MAILTO:manager@fairfieldgolfclub.co.uk
END:VEVENT
BEGIN:VEVENT
DTSTART;TZID=Europe/London:20240921T073000
DTEND;TZID=Europe/London:20240921T180000
DTSTAMP:20260422T001350
CREATED:20240528T163921Z
LAST-MODIFIED:20240528T163922Z
UID:10000230-1726903800-1726941600@fairfieldgolfclub.co.uk
SUMMARY:Autumn Cup Round 3 & GB Qualifier (19 of 20)
DESCRIPTION:Autumn Cup Round 3 & GB Qualifier (19 of 20)
URL:https://fairfieldgolfclub.co.uk/event/club-saturday-competition-18/
LOCATION:Fairfield Golf Club\, Kings Road\, Audenshaw\, Greater Manchester\, M34 5FA\, United Kingdom
CATEGORIES:Club Competitions,Club Saturday Competitions
ATTACH;FMTTYPE=image/jpeg:https://fairfieldgolfclub.co.uk/wp-content/uploads/2024/05/fgcgolf16.jpg
ORGANIZER;CN="Fairfield GC Competitions":MAILTO:manager@fairfieldgolfclub.co.uk
END:VEVENT
BEGIN:VEVENT
DTSTART;TZID=Europe/London:20240914T073000
DTEND;TZID=Europe/London:20240914T180000
DTSTAMP:20260422T001350
CREATED:20240528T163146Z
LAST-MODIFIED:20240528T163146Z
UID:10000229-1726299000-1726336800@fairfieldgolfclub.co.uk
SUMMARY:Autumn Cup Round 2 & GB Qualifier (18 of 20)
DESCRIPTION:Autumn Cup Round 2 & GB Qualifier (18 of 20)
URL:https://fairfieldgolfclub.co.uk/event/club-saturday-competition-17/
LOCATION:Fairfield Golf Club\, Kings Road\, Audenshaw\, Greater Manchester\, M34 5FA\, United Kingdom
CATEGORIES:Club Competitions,Club Saturday Competitions
ATTACH;FMTTYPE=image/jpeg:https://fairfieldgolfclub.co.uk/wp-content/uploads/2024/05/fgcnat19.jpg
ORGANIZER;CN="Fairfield GC Competitions":MAILTO:manager@fairfieldgolfclub.co.uk
END:VEVENT
BEGIN:VEVENT
DTSTART;TZID=Europe/London:20240907T073000
DTEND;TZID=Europe/London:20240907T180000
DTSTAMP:20260422T001350
CREATED:20240528T162821Z
LAST-MODIFIED:20240528T163248Z
UID:10000228-1725694200-1725732000@fairfieldgolfclub.co.uk
SUMMARY:Autumn Cup Round 1 & GB Qualifier (17 of 20)
DESCRIPTION:Autumn Cup Round 1 & GB Qualifier (17 of 20)
URL:https://fairfieldgolfclub.co.uk/event/club-saturday-competition-16/
LOCATION:Fairfield Golf Club\, Kings Road\, Audenshaw\, Greater Manchester\, M34 5FA\, United Kingdom
CATEGORIES:Club Competitions,Club Saturday Competitions
ATTACH;FMTTYPE=image/jpeg:https://fairfieldgolfclub.co.uk/wp-content/uploads/2024/05/fgcgolf12.jpg
ORGANIZER;CN="Fairfield GC Competitions":MAILTO:manager@fairfieldgolfclub.co.uk
END:VEVENT
BEGIN:VEVENT
DTSTART;TZID=Europe/London:20240831T073000
DTEND;TZID=Europe/London:20240831T180000
DTSTAMP:20260422T001350
CREATED:20240528T162007Z
LAST-MODIFIED:20240528T162008Z
UID:10000227-1725089400-1725127200@fairfieldgolfclub.co.uk
SUMMARY:Monthly Medal & GB Qualifier (16 of 20)
DESCRIPTION:Monthly Medal & GB Qualifier (16 of 20)
URL:https://fairfieldgolfclub.co.uk/event/club-saturday-competition-15/
LOCATION:Fairfield Golf Club\, Kings Road\, Audenshaw\, Greater Manchester\, M34 5FA\, United Kingdom
CATEGORIES:Club Competitions,Club Saturday Competitions
ATTACH;FMTTYPE=image/jpeg:https://fairfieldgolfclub.co.uk/wp-content/uploads/2024/05/fgcgolf11.jpg
ORGANIZER;CN="Fairfield GC Competitions":MAILTO:manager@fairfieldgolfclub.co.uk
END:VEVENT
BEGIN:VEVENT
DTSTART;TZID=Europe/London:20240818T080000
DTEND;TZID=Europe/London:20240818T130000
DTSTAMP:20260422T001350
CREATED:20240528T211420Z
LAST-MODIFIED:20240610T134315Z
UID:10000316-1723968000-1723986000@fairfieldgolfclub.co.uk
SUMMARY:Fairfield Golf Club Gent's Open
DESCRIPTION:Fairfield Golf Club Gent’s Open \nMore details to follow …..
URL:https://fairfieldgolfclub.co.uk/event/club-sunday-competition-12/
LOCATION:Fairfield Golf Club\, Kings Road\, Audenshaw\, Greater Manchester\, M34 5FA\, United Kingdom
CATEGORIES:Club Competitions,Club Sunday Competitions,Gent's Open Competition,Open Competitions
ATTACH;FMTTYPE=image/webp:https://fairfieldgolfclub.co.uk/wp-content/uploads/2024/05/18thlongview-1.webp
ORGANIZER;CN="Fairfield GC Competitions":MAILTO:manager@fairfieldgolfclub.co.uk
END:VEVENT
BEGIN:VEVENT
DTSTART;TZID=Europe/London:20240807T080000
DTEND;TZID=Europe/London:20240807T180000
DTSTAMP:20260422T001350
CREATED:20240527T182719Z
LAST-MODIFIED:20240527T182720Z
UID:10000205-1723017600-1723053600@fairfieldgolfclub.co.uk
SUMMARY:Club Prize Medal Competition
DESCRIPTION:Club Prize Medal Competition
URL:https://fairfieldgolfclub.co.uk/event/3037-12/
LOCATION:Fairfield Golf Club\, Kings Road\, Audenshaw\, Greater Manchester\, M34 5FA\, United Kingdom
CATEGORIES:Club Competitions,Club Wednesday Competitions
ATTACH;FMTTYPE=image/webp:https://fairfieldgolfclub.co.uk/wp-content/uploads/2024/05/8th.webp
ORGANIZER;CN="Fairfield GC Competitions":MAILTO:manager@fairfieldgolfclub.co.uk
END:VEVENT
BEGIN:VEVENT
DTSTART;TZID=Europe/London:20240804T130000
DTEND;TZID=Europe/London:20240804T180000
DTSTAMP:20260422T001350
CREATED:20230329T184233Z
LAST-MODIFIED:20240527T144128Z
UID:10000187-1722776400-1722794400@fairfieldgolfclub.co.uk
SUMMARY:EG Medal 9 / Rose Bowl QR Final Round / 9 Hole Stableford
DESCRIPTION:The 9th England Golf Medal round combined with the final round of the Rose Bowl over 18 holes. \nAlternatively you can opt for the 9 hole Single Stableford competition.
URL:https://fairfieldgolfclub.co.uk/event/eg-rose-bowl/
LOCATION:Fairfield Golf Club\, Kings Road\, Audenshaw\, Greater Manchester\, M34 5FA\, United Kingdom
CATEGORIES:Ladies Competitions,Ladies Sunday Competition
ATTACH;FMTTYPE=image/webp:https://fairfieldgolfclub.co.uk/wp-content/uploads/2023/03/136.webp
ORGANIZER;CN="Fairfield GC Ladies Captain":MAILTO:admin@fairfieldgolfclub.co.uk
END:VEVENT
BEGIN:VEVENT
DTSTART;TZID=Europe/London:20240728T130000
DTEND;TZID=Europe/London:20240728T180000
DTSTAMP:20260422T001350
CREATED:20230329T175130Z
LAST-MODIFIED:20240527T142018Z
UID:10000186-1722171600-1722189600@fairfieldgolfclub.co.uk
SUMMARY:Lady Captain's Day: 2nd Round
DESCRIPTION:The Lady Captain’s Prize Round 2 is a strokeplay event. Good luck!
URL:https://fairfieldgolfclub.co.uk/event/lady-captain-rd2/
LOCATION:Fairfield Golf Club\, Kings Road\, Audenshaw\, Greater Manchester\, M34 5FA\, United Kingdom
CATEGORIES:Ladies Competitions,Ladies Sunday Competition
ATTACH;FMTTYPE=image/webp:https://fairfieldgolfclub.co.uk/wp-content/uploads/2023/03/138.webp
ORGANIZER;CN="Fairfield GC Ladies Captain":MAILTO:admin@fairfieldgolfclub.co.uk
END:VEVENT
BEGIN:VEVENT
DTSTART;TZID=Europe/London:20240720T073000
DTEND;TZID=Europe/London:20240720T180000
DTSTAMP:20260422T001350
CREATED:20240528T144601Z
LAST-MODIFIED:20240528T144602Z
UID:10000221-1721460600-1721498400@fairfieldgolfclub.co.uk
SUMMARY:Monthly Medal & GB Qualifier (11 of 20)
DESCRIPTION:Monthly Medal & GB Qualifier (11 of 20)
URL:https://fairfieldgolfclub.co.uk/event/club-saturday-competition-9/
LOCATION:Fairfield Golf Club\, Kings Road\, Audenshaw\, Greater Manchester\, M34 5FA\, United Kingdom
CATEGORIES:Club Competitions,Club Saturday Competitions
ATTACH;FMTTYPE=image/jpeg:https://fairfieldgolfclub.co.uk/wp-content/uploads/2024/05/fgcnat5.jpg
ORGANIZER;CN="Fairfield GC Competitions":MAILTO:manager@fairfieldgolfclub.co.uk
END:VEVENT
BEGIN:VEVENT
DTSTART;TZID=Europe/London:20240713T073000
DTEND;TZID=Europe/London:20240713T180000
DTSTAMP:20260422T001350
CREATED:20240528T142846Z
LAST-MODIFIED:20240528T142846Z
UID:10000220-1720855800-1720893600@fairfieldgolfclub.co.uk
SUMMARY:Scratch Gold Medal Competition
DESCRIPTION:Scratch Gold Medal Competition played on the same day over 36 holes.
URL:https://fairfieldgolfclub.co.uk/event/club-saturday-competition-8/
LOCATION:Fairfield Golf Club\, Kings Road\, Audenshaw\, Greater Manchester\, M34 5FA\, United Kingdom
CATEGORIES:Club Competitions,Club Saturday Competitions
ATTACH;FMTTYPE=image/jpeg:https://fairfieldgolfclub.co.uk/wp-content/uploads/2024/05/fgcgolf6.jpg
ORGANIZER;CN="Fairfield GC Competitions":MAILTO:manager@fairfieldgolfclub.co.uk
END:VEVENT
BEGIN:VEVENT
DTSTART;TZID=Europe/London:20240707T080000
DTEND;TZID=Europe/London:20240707T130000
DTSTAMP:20260422T001350
CREATED:20240528T203814Z
LAST-MODIFIED:20240528T203815Z
UID:10000310-1720339200-1720357200@fairfieldgolfclub.co.uk
SUMMARY:Captain's Weekend & GB Qualifier (10 of 20)
DESCRIPTION:Captain’s Weekend & GB Qualifier (10 of 20)
URL:https://fairfieldgolfclub.co.uk/event/club-sunday-competition-6/
LOCATION:Fairfield Golf Club\, Kings Road\, Audenshaw\, Greater Manchester\, M34 5FA\, United Kingdom
CATEGORIES:Club Competitions,Club Sunday Competitions
ATTACH;FMTTYPE=image/webp:https://fairfieldgolfclub.co.uk/wp-content/uploads/2024/05/nwopt6.webp
ORGANIZER;CN="Fairfield GC Competitions":MAILTO:manager@fairfieldgolfclub.co.uk
END:VEVENT
BEGIN:VEVENT
DTSTART;TZID=Europe/London:20240704T080000
DTEND;TZID=Europe/London:20240704T180000
DTSTAMP:20260422T001350
CREATED:20230328T194913Z
LAST-MODIFIED:20240527T133411Z
UID:10000161-1720080000-1720116000@fairfieldgolfclub.co.uk
SUMMARY:Lynn Proffitt Memorial Trophy 18 Hole Medal / 9 Hole Stableford Competition
DESCRIPTION:Play in theLynn Proffitt Memorial Trophy 18 Hole Medal or 9 Hole Stableford Competition
URL:https://fairfieldgolfclub.co.uk/event/lynn-proffitt-memorial-trophy/
LOCATION:Fairfield Golf Club\, Kings Road\, Audenshaw\, Greater Manchester\, M34 5FA\, United Kingdom
CATEGORIES:Ladies Competitions,Ladies Thursday Competition
ATTACH;FMTTYPE=image/jpeg:https://fairfieldgolfclub.co.uk/wp-content/uploads/2022/12/1107.jpg
ORGANIZER;CN="Fairfield GC Ladies Captain":MAILTO:admin@fairfieldgolfclub.co.uk
END:VEVENT
BEGIN:VEVENT
DTSTART;TZID=Europe/London:20240616T130000
DTEND;TZID=Europe/London:20240616T180000
DTSTAMP:20260422T001350
CREATED:20230329T154759Z
LAST-MODIFIED:20240522T152329Z
UID:10000180-1718542800-1718560800@fairfieldgolfclub.co.uk
SUMMARY:EG Medal 5 / Frances Smith Trophy / Rose Bowl QR3 / 9H Stableford Competition
DESCRIPTION:England Golf qualifying round number 5\, Rose Bowl Qualifying Round 3 and the Frances Smith Trophy are played over 18 holes of Strokeplay\, whilst you can also opt for a 9 hole Single Stableford.
URL:https://fairfieldgolfclub.co.uk/event/eg5-fsmith-trophy-etc/
LOCATION:Fairfield Golf Club\, Kings Road\, Audenshaw\, Greater Manchester\, M34 5FA\, United Kingdom
CATEGORIES:Ladies Competitions,Ladies Sunday Competition
ATTACH;FMTTYPE=image/webp:https://fairfieldgolfclub.co.uk/wp-content/uploads/2023/03/118.webp
ORGANIZER;CN="Fairfield GC Ladies Captain":MAILTO:admin@fairfieldgolfclub.co.uk
END:VEVENT
BEGIN:VEVENT
DTSTART;TZID=Europe/London:20240616T080000
DTEND;TZID=Europe/London:20240616T130000
DTSTAMP:20260422T001350
CREATED:20240528T202048Z
LAST-MODIFIED:20240528T202122Z
UID:10000307-1718524800-1718542800@fairfieldgolfclub.co.uk
SUMMARY:Jubilee Cup Round 2 & GB Qualifier (7 of 20)
DESCRIPTION:Jubilee Cup Round 2 & Gb Qualifier (7 of 20)
URL:https://fairfieldgolfclub.co.uk/event/club-sunday-competition-4/
LOCATION:Fairfield Golf Club\, Kings Road\, Audenshaw\, Greater Manchester\, M34 5FA\, United Kingdom
CATEGORIES:Club Competitions,Club Sunday Competitions
ATTACH;FMTTYPE=image/jpeg:https://fairfieldgolfclub.co.uk/wp-content/uploads/2024/05/fgcnat9.jpg
ORGANIZER;CN="Fairfield GC Competitions":MAILTO:manager@fairfieldgolfclub.co.uk
END:VEVENT
BEGIN:VEVENT
DTSTART;TZID=Europe/London:20240609T130000
DTEND;TZID=Europe/London:20240609T180000
DTSTAMP:20260422T001350
CREATED:20230329T154102Z
LAST-MODIFIED:20240522T150255Z
UID:10000179-1717938000-1717956000@fairfieldgolfclub.co.uk
SUMMARY:Lady President's Flag Competition
DESCRIPTION:Non-qualifying Strokeplay competition over 18 holes.
URL:https://fairfieldgolfclub.co.uk/event/lady-pres-flag-competition/
LOCATION:Fairfield Golf Club\, Kings Road\, Audenshaw\, Greater Manchester\, M34 5FA\, United Kingdom
CATEGORIES:Ladies Competitions,Ladies Sunday Competition
ATTACH;FMTTYPE=image/webp:https://fairfieldgolfclub.co.uk/wp-content/uploads/2023/03/120.webp
ORGANIZER;CN="Fairfield GC Ladies Captain":MAILTO:admin@fairfieldgolfclub.co.uk
END:VEVENT
END:VCALENDAR