BEGIN:VCALENDAR
VERSION:2.0
PRODID:-//Fairfield Golf Club - ECPv6.15.20//NONSGML v1.0//EN
CALSCALE:GREGORIAN
METHOD:PUBLISH
X-ORIGINAL-URL:https://fairfieldgolfclub.co.uk
X-WR-CALDESC:Events for Fairfield Golf Club
REFRESH-INTERVAL;VALUE=DURATION:PT1H
X-Robots-Tag:noindex
X-PUBLISHED-TTL:PT1H
BEGIN:VTIMEZONE
TZID:Europe/London
BEGIN:DAYLIGHT
TZOFFSETFROM:+0000
TZOFFSETTO:+0100
TZNAME:BST
DTSTART:20230326T010000
END:DAYLIGHT
BEGIN:STANDARD
TZOFFSETFROM:+0100
TZOFFSETTO:+0000
TZNAME:GMT
DTSTART:20231029T010000
END:STANDARD
BEGIN:DAYLIGHT
TZOFFSETFROM:+0000
TZOFFSETTO:+0100
TZNAME:BST
DTSTART:20240331T010000
END:DAYLIGHT
BEGIN:STANDARD
TZOFFSETFROM:+0100
TZOFFSETTO:+0000
TZNAME:GMT
DTSTART:20241027T010000
END:STANDARD
BEGIN:DAYLIGHT
TZOFFSETFROM:+0000
TZOFFSETTO:+0100
TZNAME:BST
DTSTART:20250330T010000
END:DAYLIGHT
BEGIN:STANDARD
TZOFFSETFROM:+0100
TZOFFSETTO:+0000
TZNAME:GMT
DTSTART:20251026T010000
END:STANDARD
BEGIN:DAYLIGHT
TZOFFSETFROM:+0000
TZOFFSETTO:+0100
TZNAME:BST
DTSTART:20260329T010000
END:DAYLIGHT
BEGIN:STANDARD
TZOFFSETFROM:+0100
TZOFFSETTO:+0000
TZNAME:GMT
DTSTART:20261025T010000
END:STANDARD
END:VTIMEZONE
BEGIN:VEVENT
DTSTART;TZID=Europe/London:20250826T093000
DTEND;TZID=Europe/London:20250826T103000
DTSTAMP:20260421T155348
CREATED:20240219T000156Z
LAST-MODIFIED:20250211T165925Z
UID:10000036-1756200600-1756204200@fairfieldgolfclub.co.uk
SUMMARY:MDSL Home Match vs Dukinfield - League & Social
DESCRIPTION:This is the last Manchester & District Senior’s Golf League of the 2025 season. As usual\, we need a full team to make a push towards MDSL finals day. Please support the Seniors be signing up early.
URL:https://fairfieldgolfclub.co.uk/event/mdsl-home-match-vs-dukinfield-league-social/
LOCATION:Fairfield Golf Club\, Kings Road\, Audenshaw\, Greater Manchester\, M34 5FA\, United Kingdom
CATEGORIES:MDSL Senior’s League,Seniors MDSL Matches
ATTACH;FMTTYPE=image/jpeg:https://fairfieldgolfclub.co.uk/wp-content/uploads/2022/11/Fairfield.jpg
END:VEVENT
BEGIN:VEVENT
DTSTART;TZID=Europe/London:20250812T093000
DTEND;TZID=Europe/London:20250812T103000
DTSTAMP:20260421T155348
CREATED:20240219T003142Z
LAST-MODIFIED:20250211T165748Z
UID:10000054-1754991000-1754994600@fairfieldgolfclub.co.uk
SUMMARY:Home Friendly vs Marple GC Seniors
DESCRIPTION:Annual friendly fixture vs Marple Seniors.
URL:https://fairfieldgolfclub.co.uk/event/home-friendly-vs-marple/
LOCATION:Fairfield Golf Club\, Kings Road\, Audenshaw\, Greater Manchester\, M34 5FA\, United Kingdom
CATEGORIES:MDSL Senior's Friendly
ATTACH;FMTTYPE=image/jpeg:https://fairfieldgolfclub.co.uk/wp-content/uploads/2022/12/1508-2.jpg
END:VEVENT
BEGIN:VEVENT
DTSTART;TZID=Europe/London:20250807T093000
DTEND;TZID=Europe/London:20250807T103000
DTSTAMP:20260421T155348
CREATED:20240219T004430Z
LAST-MODIFIED:20250211T154942Z
UID:10000034-1754559000-1754562600@fairfieldgolfclub.co.uk
SUMMARY:MDSL Away Match vs Denton - League & Social
DESCRIPTION:Always a popular away match. Denton’s water hazards and streams seem to bring out the bravado of those who like to hit big\, high violent hooks. Sign up early for this one.
URL:https://fairfieldgolfclub.co.uk/event/mdsl-away-match-vs-denton-league-social/
LOCATION:Denton Golf Club\, Manchester Road\, Denton\, Greater Manchester\, M34 2GG\, United Kingdom
CATEGORIES:MDSL Senior’s League,Seniors MDSL Matches
ATTACH;FMTTYPE=image/jpeg:https://fairfieldgolfclub.co.uk/wp-content/uploads/2022/12/Denton.jpg
END:VEVENT
BEGIN:VEVENT
DTSTART;TZID=Europe/London:20250729T093000
DTEND;TZID=Europe/London:20250729T103000
DTSTAMP:20260421T155348
CREATED:20240219T005305Z
LAST-MODIFIED:20250211T165508Z
UID:10000035-1753781400-1753785000@fairfieldgolfclub.co.uk
SUMMARY:MDSL Home Match vs Ashton - League & Social
DESCRIPTION:We’re getting toward the tail end of the season now and this really is the business end. We need to use home advantage to secure a win to have a chance at finals day in 2025. As usual\, we need a full field and reserves to pick the strongest team.
URL:https://fairfieldgolfclub.co.uk/event/mdsl-home-match-vs-ashton-league-social/
LOCATION:Fairfield Golf Club\, Kings Road\, Audenshaw\, Greater Manchester\, M34 5FA\, United Kingdom
CATEGORIES:MDSL Senior’s League,Seniors MDSL Matches
ATTACH;FMTTYPE=image/jpeg:https://fairfieldgolfclub.co.uk/wp-content/uploads/2022/11/Fairfield.jpg
END:VEVENT
BEGIN:VEVENT
DTSTART;TZID=Europe/London:20250619T090000
DTEND;TZID=Europe/London:20250619T110000
DTSTAMP:20260421T155348
CREATED:20240219T001457Z
LAST-MODIFIED:20250211T154719Z
UID:10000032-1750323600-1750330800@fairfieldgolfclub.co.uk
SUMMARY:MDSL Away Match vs Dukinfield - League & Social
DESCRIPTION:A league and social away match at Dukinfield Golf Club with four pairs in the league matches and four pairs in the social. A good combo of old and new holes makes for an interesting day out . Please note the tee time of 9.30 am onwards.
URL:https://fairfieldgolfclub.co.uk/event/mdsl-away-match-vs-dukinfield-league-social/
LOCATION:Dukinfield Golf Club\, Yew Tree Lane\, Dukinfield\, Cheshire\, SK16 5GF\, United Kingdom
CATEGORIES:MDSL Senior’s League,Seniors MDSL Matches
ATTACH;FMTTYPE=image/jpeg:https://fairfieldgolfclub.co.uk/wp-content/uploads/2022/12/dukinfieldgc.jpg
END:VEVENT
BEGIN:VEVENT
DTSTART;TZID=Europe/London:20250605T093000
DTEND;TZID=Europe/London:20250605T103000
DTSTAMP:20260421T155348
CREATED:20240219T004213Z
LAST-MODIFIED:20250211T154503Z
UID:10000030-1749115800-1749119400@fairfieldgolfclub.co.uk
SUMMARY:MDSL Away Match vs Ashton - League & Social
DESCRIPTION:An away match at Ashton is always an interesting day with a long first nine and a short back nine. If I remember correctly\, the food was rather good too. Please let’s get this one filled up in good time.
URL:https://fairfieldgolfclub.co.uk/event/mdsl-away-match-vs-ashton-league-social/
LOCATION:Ashton-under-Lyne GC\, Gorsey Way\, Ashton-under-Lyne\, Lancashire\, OL6 9HT\, United Kingdom
CATEGORIES:MDSL Senior’s League,Seniors MDSL Matches
ATTACH;FMTTYPE=image/jpeg:https://fairfieldgolfclub.co.uk/wp-content/uploads/2022/12/A-U-L2.jpg
END:VEVENT
BEGIN:VEVENT
DTSTART;TZID=Europe/London:20250520T093000
DTEND;TZID=Europe/London:20250520T103000
DTSTAMP:20260421T155348
CREATED:20240219T003155Z
LAST-MODIFIED:20250211T164832Z
UID:10000029-1747733400-1747737000@fairfieldgolfclub.co.uk
SUMMARY:MDSL Home Match vs Houldsworth - League & Social
DESCRIPTION:It’s time to show our friends from Houldsworth what narrow fairways\, out of bounds and proper rough looks like.
URL:https://fairfieldgolfclub.co.uk/event/mdsl-home-match-vs-houldsworth-league-social/
LOCATION:Fairfield Golf Club\, Kings Road\, Audenshaw\, Greater Manchester\, M34 5FA\, United Kingdom
CATEGORIES:MDSL Senior’s League,Seniors MDSL Matches
ATTACH;FMTTYPE=image/jpeg:https://fairfieldgolfclub.co.uk/wp-content/uploads/2022/11/Fairfield.jpg
END:VEVENT
BEGIN:VEVENT
DTSTART;TZID=Europe/London:20250501T093000
DTEND;TZID=Europe/London:20250501T103000
DTSTAMP:20260421T155348
CREATED:20240219T000309Z
LAST-MODIFIED:20250211T153551Z
UID:10000038-1746091800-1746095400@fairfieldgolfclub.co.uk
SUMMARY:MDSL Away Match vs Stamford - League & Social
DESCRIPTION:Always a good day out\, FSG return to Stamford for an away match. This is a Team & Social match and we need a full team of 16 players plus reserves so that we can enjoy a good day out and enjoy the excellent views on this enjoyable course. Please sign up early.
URL:https://fairfieldgolfclub.co.uk/event/mdsl-away-match-vs-stamford-league-social/
LOCATION:Stamford Golf Club\, Huddersfield Road\, Stalybridge\, Cheshire\, SK15 3PY\, United Kingdom
CATEGORIES:MDSL Senior’s League,Seniors MDSL Matches
ATTACH;FMTTYPE=image/jpeg:https://fairfieldgolfclub.co.uk/wp-content/uploads/2022/11/stamford.jpg
END:VEVENT
BEGIN:VEVENT
DTSTART;TZID=Europe/London:20250417T093000
DTEND;TZID=Europe/London:20250417T110000
DTSTAMP:20260421T155348
CREATED:20240219T004243Z
LAST-MODIFIED:20250211T153019Z
UID:10000024-1744882200-1744887600@fairfieldgolfclub.co.uk
SUMMARY:MDSL Away Match vs Houldsworth - Team & Social
DESCRIPTION:This is the Senior’s opening match of the season and our first day away on a flat\, wide open course. Hit it hard and look for it later!  Enjoy the day.
URL:https://fairfieldgolfclub.co.uk/event/mdsl-away-match-vs-houldsworth-team-social/
LOCATION:Houldsworth Golf Club\, Houldsworth Street\, Reddish\, Greater Manchester\, SK5 6BN\, United Kingdom
CATEGORIES:MDSL Senior’s League,Seniors MDSL Matches
ATTACH;FMTTYPE=image/jpeg:https://fairfieldgolfclub.co.uk/wp-content/uploads/2022/11/houldsworth.jpg
END:VEVENT
BEGIN:VEVENT
DTSTART;TZID=Europe/London:20240514T080000
DTEND;TZID=Europe/London:20240514T100000
DTSTAMP:20260421T155348
CREATED:20240219T004033Z
LAST-MODIFIED:20240219T135013Z
UID:10000046-1715673600-1715680800@fairfieldgolfclub.co.uk
SUMMARY:Senior's Single Stableford Competition
DESCRIPTION:Tuesday Senior’s Single Stableford Competition. There will be a £3 entry fee rather than the usual £2 to cover our donation to this year’s charity. \nThis is a qualifying event for The Senior Golfer of the Year Competition. Good luck!
URL:https://fairfieldgolfclub.co.uk/event/seniors-single-stableford-competition-5/
LOCATION:Fairfield Golf Club\, Kings Road\, Audenshaw\, Greater Manchester\, M34 5FA\, United Kingdom
CATEGORIES:Senior's Tuesday Competition,Seniors Summer League
ATTACH;FMTTYPE=image/jpeg:https://fairfieldgolfclub.co.uk/wp-content/uploads/2022/12/1605.jpg
END:VEVENT
END:VCALENDAR